BEGIN:VCALENDAR
VERSION:2.0
PRODID:-//jEvents 2.0 for Joomla//EN
CALSCALE:GREGORIAN
METHOD:PUBLISH
BEGIN:VEVENT
UID:9a9222baf4a9744d1b07b2b948c9e3b4
CATEGORIES:Bonspiel
CREATED:20251023T124240
SUMMARY:Best Ever Bonspiel
DESCRIPTION:
DTSTAMP:20260419T143751
DTSTART:20260402T120000
DTEND:20260402T210000
SEQUENCE:0
TRANSP:OPAQUE
END:VEVENT
END:VCALENDAR