BEGIN:VCALENDAR
VERSION:2.0
PRODID:-//jEvents 2.0 for Joomla//EN
CALSCALE:GREGORIAN
METHOD:PUBLISH
BEGIN:VEVENT
UID:3efffab53b69ab8f25d4427d0dfdbd53
CATEGORIES:Bonspiel
CREATED:20251023T124218
SUMMARY:Best Ever Bonspiel
DESCRIPTION:
DTSTAMP:20260419T160629
DTSTART:20260401T120000
DTEND:20260401T210000
SEQUENCE:0
TRANSP:OPAQUE
END:VEVENT
END:VCALENDAR