BEGIN:VCALENDAR
VERSION:2.0
PRODID:-//jEvents 2.0 for Joomla//EN
CALSCALE:GREGORIAN
METHOD:PUBLISH
BEGIN:VEVENT
UID:83e4841b9466541574173b1feddb9721
CATEGORIES:Bonspiel
CREATED:20251023T124327
SUMMARY:Best Ever Bonspiel
DESCRIPTION:
DTSTAMP:20260419T160858
DTSTART:20260408T120000
DTEND:20260408T210000
SEQUENCE:0
TRANSP:OPAQUE
END:VEVENT
END:VCALENDAR