BEGIN:VCALENDAR
VERSION:2.0
PRODID:-//jEvents 2.0 for Joomla//EN
CALSCALE:GREGORIAN
METHOD:PUBLISH
BEGIN:VEVENT
UID:60a7e7b5a9ca38e76ad7d4da87042ba2
CATEGORIES:Bonspiel
CREATED:20251023T124506
SUMMARY:Best Ever Bonspiel
DESCRIPTION:
DTSTAMP:20260419T160246
DTSTART:20260409T120000
DTEND:20260409T210000
SEQUENCE:0
TRANSP:OPAQUE
END:VEVENT
END:VCALENDAR