BEGIN:VCALENDAR
VERSION:2.0
PRODID:-//jEvents 2.0 for Joomla//EN
CALSCALE:GREGORIAN
METHOD:PUBLISH
BEGIN:VEVENT
UID:32cb49f01d4c3983ee447621539b5e7a
CATEGORIES:Bonspiel
CREATED:20251023T124525
SUMMARY:Best Ever Bonspiel
DESCRIPTION:
DTSTAMP:20260419T160857
DTSTART:20260410T120000
DTEND:20260410T210000
SEQUENCE:0
TRANSP:OPAQUE
END:VEVENT
END:VCALENDAR