BEGIN:VCALENDAR
VERSION:2.0
PRODID:-//jEvents 2.0 for Joomla//EN
CALSCALE:GREGORIAN
METHOD:PUBLISH
BEGIN:VEVENT
UID:80484cc641716dd566eb368aa0aff41c
CATEGORIES:Bonspiel
CREATED:20251023T124544
SUMMARY:Best Ever Bonspiel & Pig Roast
DESCRIPTION:
DTSTAMP:20260419T155633
DTSTART:20260411T120000
DTEND:20260411T210000
SEQUENCE:0
TRANSP:OPAQUE
END:VEVENT
END:VCALENDAR